BEGIN:VCALENDAR
VERSION:2.0
PRODID:-//Creative Kinesiology School - ECPv6.9.0//NONSGML v1.0//EN
CALSCALE:GREGORIAN
METHOD:PUBLISH
X-WR-CALNAME:Creative Kinesiology School
X-ORIGINAL-URL:https://creativekinesiology.org
X-WR-CALDESC:Events for Creative Kinesiology School
REFRESH-INTERVAL;VALUE=DURATION:PT1H
X-Robots-Tag:noindex
X-PUBLISHED-TTL:PT1H
BEGIN:VTIMEZONE
TZID:Europe/London
BEGIN:DAYLIGHT
TZOFFSETFROM:+0000
TZOFFSETTO:+0100
TZNAME:BST
DTSTART:20220327T010000
END:DAYLIGHT
BEGIN:STANDARD
TZOFFSETFROM:+0100
TZOFFSETTO:+0000
TZNAME:GMT
DTSTART:20221030T010000
END:STANDARD
END:VTIMEZONE
BEGIN:VEVENT
DTSTART;VALUE=DATE:20221015
DTEND;VALUE=DATE:20221018
DTSTAMP:20260423T075115
CREATED:20220522T134132Z
LAST-MODIFIED:20220824T143141Z
UID:5443-1665792000-1666051199@creativekinesiology.org
SUMMARY:LifeTracking Foundation Course
DESCRIPTION:Learn to become a body detective with this LifeTracking Foundation course in kinesiology that is packed with self help tools to enhance health and vitality. \nThe course introduces you to Creative Kinesiology’s unique body-tracking approach which is the method we use to talk to the body and find out what your body is saying to you. \nThis course is for you if you: \n\n	wish to learn some wonderful self-help tools\n	want to be shown ways to help family or friends\n	would like to take the first step in becoming a professional practitioner\n	are looking for ways to enhance your current professional practice\n\n  \nFurther dates: \nFuture dates for this course I am hoping for are (tbc with venue and with group gathered): \nNov 11th\, 12th and 13th \nDec 10th\, 11th and 12th \nJan 27th\, 28th and 29th \n  \nThere is a strong practical element\, with the emphasis on hands on learning. \nCourse costs: \n\n	The course cost of £897 includes teaching weekends\, manual and simple refreshments.\n	£100 deposit secures your place\, payment plans and installments available on request.\n	A Touch for Health Manual is required approximately £35\, and there is optional assessment (to gain the foundation level certificate\, so opening the door to the professional course starting in April 2023) which will cost between (£80- £110 depending on venue and duration).\n	Personal sessions with Sarah-Jayne are not included; the student rate is £40\, a minimum of 4 is required over the duration of the course.\n	Self-catering accommodation is available at extra cost \n\nAbout the venue \nTrevanin Farm is a beautifully renovated farmstead quietly situated on the outskirts of the village of Woodbury Salterton. It is in rural East Devon\, about 8 miles from the centre of Exeter and only 10 minutes’ drive from Junction 30 on the M5. There is an hourly bus service to Exeter and Exmouth (Stagecoach route 56\, weekdays and Saturdays till early evening) and a pub within 10 minutes’ walk. Local shopping is a short drive or cycle away\, or a walk across fields to Woodbury. The nearest station at Topsham is a 10 minutes’ drive and the airport is 15 minutes away. \n  \nFor more information and to register your interest (places limited) \nCall Sarah-Jayne on 07812400634 or \nEmail: sjkinesiology@gmail.com \nCreative Kinesiology’s flagship foundation 10 day training in Credition… \nFor more information and details please contact  Sarah-Jayne Hayden-Binder \n 
URL:https://creativekinesiology.org/event/lifetracking-foundation-course-2/
LOCATION:Trevanin Farm\, Woodbury Salterton\, East Devon\, EX5 1PS\, United Kingdom
CATEGORIES:LifeTracking
ORGANIZER;CN="Sarah-Jayne Hayden-Binder":MAILTO:sjkinesiology@gmail.com
END:VEVENT
END:VCALENDAR